BEGIN:VCALENDAR
VERSION:2.0
PRODID:icalendar-ruby
CALSCALE:GREGORIAN
METHOD:PUBLISH
BEGIN:VEVENT
DTSTAMP:20260421T233750Z
UID:9-617883@harmonygroveumc.com
DTSTART:20260724T120000Z
DTEND:20260724T130000Z
CLASS:PUBLIC
CREATED:20260421T185429
DESCRIPTION:Join us weekly at 8 am Fridays in the church lobby. This is a t
 ime for guys to talk about guy-stuff and drink coffee. Coffee will be avai
 lable or bring your own. Visitors are always welcome.
LAST-MODIFIED:20260421T185429
LOCATION:Narthex
SUMMARY:Guys Friday Coffee Group
URL;VALUE=URI:https://www.harmonygroveumc.com/events/guys-friday-coffee-gro
 up/2026-07-24
ATTACH;FILENAME=Coffee-Klatch.png;FMTTYPE=image/png:https://dq5pwpg1q8ru0.c
 loudfront.net/2025/07/22/18/25/31/6308a314-5ca0-4ee6-be95-317b7bf9ac84/Cof
 fee-Klatch.png
END:VEVENT
END:VCALENDAR
