BEGIN:VCALENDAR
VERSION:2.0
PRODID:icalendar-ruby
CALSCALE:GREGORIAN
METHOD:PUBLISH
BEGIN:VEVENT
DTSTAMP:20260423T102940Z
UID:6-621521@harmonygroveumc.com
DTSTART:20260726T143000Z
DTEND:20260726T200000Z
CLASS:PUBLIC
CREATED:20260422T231208
DESCRIPTION:There is one worship service on Sundays at 10:30 am. This servi
 ce meets in person and is available on our Facebook page via live stream
  and later on our Youtube channel.\nAdditionally\, the following Sunday m
 eeting times will also change:\n\n9: 15 – Sunday School classes\n10:30 a
 m – Worship in the sanctuary\n11:30 am – (just after Worship) Choir pr
 actice\n12:30 pm – Handbell Practice\n
LAST-MODIFIED:20260422T231208
LOCATION:
SUMMARY:Live/Stream Worship
URL;VALUE=URI:https://www.harmonygroveumc.com/events/live-stream-worship/20
 26-07-26
ATTACH;FILENAME=worship-stream.png;FMTTYPE=image/png:https://dq5pwpg1q8ru0.
 cloudfront.net/2025/07/22/13/51/31/75e7ec48-95cb-4cff-bcd8-8aff607070bd/wo
 rship-stream.png
END:VEVENT
END:VCALENDAR
