BEGIN:VCALENDAR
VERSION:2.0
PRODID:icalendar-ruby
CALSCALE:GREGORIAN
METHOD:PUBLISH
BEGIN:VEVENT
DTSTAMP:20260421T220605Z
UID:11-617487@harmonygroveumc.com
DTSTART:20260803T140000Z
DTEND:20260803T150000Z
CLASS:PUBLIC
CREATED:20260421T161555
DESCRIPTION:This group meets in the conference and follows a study series l
 ed by Jim Landis. 
LAST-MODIFIED:20260421T161555
LOCATION:
SUMMARY:Monday Spiritual Growth Class
URL;VALUE=URI:https://www.harmonygroveumc.com/events/monday-spiritual-growt
 h-class/2026-08-03
ATTACH;FILENAME=Monday.png;FMTTYPE=image/png:https://dq5pwpg1q8ru0.cloudfro
 nt.net/2025/08/06/15/26/26/c0417faa-c7c5-446f-bf1f-f1786eb12e00/Monday.png
END:VEVENT
END:VCALENDAR
