BEGIN:VCALENDAR
VERSION:2.0
PRODID:icalendar-ruby
CALSCALE:GREGORIAN
METHOD:PUBLISH
BEGIN:VEVENT
DTSTAMP:20260421T220726Z
UID:5-617228@harmonygroveumc.com
DTSTART:20260920T143000Z
DTEND:20260920T153000Z
CLASS:PUBLIC
CREATED:20260421T161554
DESCRIPTION:Sunday Worship
LAST-MODIFIED:20260421T161554
LOCATION:
SUMMARY:Sunday Worship
URL;VALUE=URI:https://www.harmonygroveumc.com/events/sunday-worship/2026-09
 -20
END:VEVENT
END:VCALENDAR
