BEGIN:VCALENDAR
VERSION:2.0
PRODID:icalendar-ruby
CALSCALE:GREGORIAN
METHOD:PUBLISH
BEGIN:VEVENT
DTSTAMP:20260421T234230Z
UID:5-617756@harmonygroveumc.com
DTSTART:20260927T143000Z
DTEND:20260927T153000Z
CLASS:PUBLIC
CREATED:20260421T185429
DESCRIPTION:Sunday Worship
LAST-MODIFIED:20260421T185429
LOCATION:
SUMMARY:Sunday Worship
URL;VALUE=URI:https://www.harmonygroveumc.com/events/sunday-worship/2026-09
 -27
END:VEVENT
END:VCALENDAR
