BEGIN:VCALENDAR
VERSION:2.0
PRODID:icalendar-ruby
CALSCALE:GREGORIAN
METHOD:PUBLISH
BEGIN:VEVENT
DTSTAMP:20260422T012856Z
UID:5-617757@harmonygroveumc.com
DTSTART:20261004T143000Z
DTEND:20261004T153000Z
CLASS:PUBLIC
CREATED:20260421T185429
DESCRIPTION:Sunday Worship
LAST-MODIFIED:20260421T185429
LOCATION:
SUMMARY:Sunday Worship
URL;VALUE=URI:https://www.harmonygroveumc.com/events/sunday-worship/2026-10
 -04
END:VEVENT
END:VCALENDAR
