BEGIN:VCALENDAR
VERSION:2.0
PRODID:icalendar-ruby
CALSCALE:GREGORIAN
METHOD:PUBLISH
BEGIN:VEVENT
DTSTAMP:20260422T030044Z
UID:5-618285@harmonygroveumc.com
DTSTART:20261011T143000Z
DTEND:20261011T153000Z
CLASS:PUBLIC
CREATED:20260421T213254
DESCRIPTION:Sunday Worship
LAST-MODIFIED:20260421T213254
LOCATION:
SUMMARY:Sunday Worship
URL;VALUE=URI:https://www.harmonygroveumc.com/events/sunday-worship/2026-10
 -11
END:VEVENT
END:VCALENDAR
