BEGIN:VCALENDAR
VERSION:2.0
PRODID:icalendar-ruby
CALSCALE:GREGORIAN
METHOD:PUBLISH
BEGIN:VEVENT
DTSTAMP:20260422T044223Z
UID:5-618286@harmonygroveumc.com
DTSTART:20261018T143000Z
DTEND:20261018T153000Z
CLASS:PUBLIC
CREATED:20260421T213254
DESCRIPTION:Sunday Worship
LAST-MODIFIED:20260421T213254
LOCATION:
SUMMARY:Sunday Worship
URL;VALUE=URI:https://www.harmonygroveumc.com/events/sunday-worship/2026-10
 -18
END:VEVENT
END:VCALENDAR
