BEGIN:VCALENDAR
VERSION:2.0
PRODID:icalendar-ruby
CALSCALE:GREGORIAN
METHOD:PUBLISH
BEGIN:VEVENT
DTSTAMP:20260422T020159Z
UID:10-618480@harmonygroveumc.com
DTSTART:20260818T140000Z
DTEND:20260818T150000Z
CLASS:PUBLIC
CREATED:20260421T213255
DESCRIPTION:This Spiritual Growth class meets weekly on Tuesdays. They are 
 working their way through the bible. Visitors are welcome.
LAST-MODIFIED:20260421T213255
LOCATION:Conference Room
SUMMARY:Tuesday Spiritual Growth Class
URL;VALUE=URI:https://www.harmonygroveumc.com/events/tuesday-spiritual-grow
 th-class/2026-08-18
ATTACH;FILENAME=Tuesday.png;FMTTYPE=image/png:https://dq5pwpg1q8ru0.cloudfr
 ont.net/2025/07/22/18/46/43/3d2dd034-fd24-4103-9dd1-d75b4021a5ab/Tuesday.p
 ng
END:VEVENT
END:VCALENDAR
